BEGIN:VCALENDAR
VERSION:2.0
PRODID:-//jEvents 2.0 for Joomla//EN
CALSCALE:GREGORIAN
METHOD:PUBLISH
BEGIN:VEVENT
UID:1842230bc019fcb587c6a324830ad036
CATEGORIES:Abwesenheit Verena
CREATED:20220715T101142
SUMMARY:Teilbesetzung eja
URL;VALUE=URI:https://eja-aalen.de/medien/kalender/icalrepeat.detail/2022/09/05/1002/-/te
 ilbesetzung-eja?tmpl=component
DESCRIPTION: <a href="https://eja-aalen.de/medien/kalender/icalrepeat.detail/2022/09/05
 /1002/-/teilbesetzung-eja?tmpl=component">Dieser Event wurde importiert von
 : https://eja-aalen.de/medien/kalender/icalrepeat.detail/2022/09/05/1002/-/
 teilbesetzung-eja?tmpl=component</a>DTSTAMP:20260423T001126
DTSTART;VALUE=DATE:20220905
DTEND;VALUE=DATE:20220924
SEQUENCE:0
TRANSP:OPAQUE
END:VEVENT
END:VCALENDAR