BEGIN:VCALENDAR
VERSION:2.0
PRODID:-//jEvents 2.0 for Joomla//EN
CALSCALE:GREGORIAN
METHOD:PUBLISH
BEGIN:VEVENT
UID:1e8448a09fa223c19cc6def4fde105b2
CATEGORIES:Abwesenheit Verena
CREATED:20220715T101416
SUMMARY:Teilbesetzung eja
URL;VALUE=URI:https://eja-aalen.de/medien/kalender/icalrepeat.detail/2022/09/30/1003/-/te
 ilbesetzung-eja?tmpl=component
DESCRIPTION: Dieser Event wurde importiert von: https://eja-aalen.de/medien/kalender/ic
 alrepeat.detail/2022/09/30/1003/-/teilbesetzung-eja?tmpl=component
X-ALT-DESC;FMTTYPE=text/html: <a href="https://eja-aalen.de/medien/kalender/icalrepeat.detail/2022/09/30
 /1003/-/teilbesetzung-eja?tmpl=component">Dieser Event wurde importiert von
 : https://eja-aalen.de/medien/kalender/icalrepeat.detail/2022/09/30/1003/-/
 teilbesetzung-eja?tmpl=component</a>DTSTAMP:20260424T221439
DTSTART;VALUE=DATE:20220930
DTEND;VALUE=DATE:20221006
SEQUENCE:0
TRANSP:OPAQUE
END:VEVENT
END:VCALENDAR