BEGIN:VCALENDAR
VERSION:2.0
PRODID:-//jEvents 2.0 for Joomla//EN
CALSCALE:GREGORIAN
METHOD:PUBLISH
BEGIN:VEVENT
UID:f37dd177df3006324d2a961ab32dc4cb
CATEGORIES:Abwesenheit Elke
CREATED:20220912T103407
SUMMARY:Teilbesetzung eja
URL;VALUE=URI:https://eja-aalen.de/medien/kalender/icalrepeat.detail/2022/10/31/1005/-/te
 ilbesetzung-eja?tmpl=component
DESCRIPTION: Dieser Event wurde importiert von: https://eja-aalen.de/medien/kalender/ic
 alrepeat.detail/2022/10/31/1005/-/teilbesetzung-eja?tmpl=component
X-ALT-DESC;FMTTYPE=text/html: <a href="https://eja-aalen.de/medien/kalender/icalrepeat.detail/2022/10/31
 /1005/-/teilbesetzung-eja?tmpl=component">Dieser Event wurde importiert von
 : https://eja-aalen.de/medien/kalender/icalrepeat.detail/2022/10/31/1005/-/
 teilbesetzung-eja?tmpl=component</a>DTSTAMP:20260424T004958
DTSTART;VALUE=DATE:20221031
DTEND;VALUE=DATE:20221101
SEQUENCE:0
TRANSP:OPAQUE
END:VEVENT
END:VCALENDAR