BEGIN:VCALENDAR
VERSION:2.0
PRODID:-//jEvents 2.0 for Joomla//EN
CALSCALE:GREGORIAN
METHOD:PUBLISH
BEGIN:VEVENT
UID:9325509ef91dc23fe21aad5e083ffc23
CATEGORIES:Abwesenheit Verena
CREATED:20220912T103636
SUMMARY:Teilbesetzung eja
URL;VALUE=URI:https://eja-aalen.de/medien/kalender/icalrepeat.detail/2022/10/19/1006/-/te
 ilbesetzung-eja?tmpl=component
DESCRIPTION:<p>Fortbildungsbesuch L&ouml;wenstein</p> <a href="https://eja-aalen.de/med
 ien/kalender/icalrepeat.detail/2022/10/19/1006/-/teilbesetzung-eja?tmpl=com
 ponent">Dieser Event wurde importiert von: https://eja-aalen.de/medien/kale
 nder/icalrepeat.detail/2022/10/19/1006/-/teilbesetzung-eja?tmpl=component</
 a>DTSTAMP:20260425T193141
DTSTART;VALUE=DATE:20221019
DTEND;VALUE=DATE:20221022
SEQUENCE:0
TRANSP:OPAQUE
END:VEVENT
END:VCALENDAR