BEGIN:VCALENDAR
VERSION:2.0
PRODID:-//jEvents 2.0 for Joomla//EN
CALSCALE:GREGORIAN
METHOD:PUBLISH
BEGIN:VEVENT
UID:30b3c57f58be825ded31a11970eaad26
CATEGORIES:Freizeiten
CREATED:20230322T111120
SUMMARY:Vorbereitungswochenende Zeltlager
URL;VALUE=URI:https://eja-aalen.de/medien/kalender/icalrepeat.detail/2023/05/05/1008/-/vo
 rbereitungswochenende-zeltlager?tmpl=component
DESCRIPTION: <a href="https://eja-aalen.de/medien/kalender/icalrepeat.detail/2023/05/05
 /1008/-/vorbereitungswochenende-zeltlager?tmpl=component">Dieser Event wurd
 e importiert von: https://eja-aalen.de/medien/kalender/icalrepeat.detail/20
 23/05/05/1008/-/vorbereitungswochenende-zeltlager?tmpl=component</a>DTSTAMP:20260425T235044
DTSTART:20230505T180000
DTEND:20230507T130000
SEQUENCE:0
TRANSP:OPAQUE
END:VEVENT
END:VCALENDAR