BEGIN:VCALENDAR
VERSION:2.0
PRODID:-//jEvents 2.0 for Joomla//EN
CALSCALE:GREGORIAN
METHOD:PUBLISH
BEGIN:VEVENT
UID:a593bba3a77662827df8f47676089e96
CATEGORIES:Freizeiten
CREATED:20230322T111205
SUMMARY:Bubenzeltlager
URL;VALUE=URI:https://eja-aalen.de/medien/kalender/icalrepeat.detail/2023/07/28/1009/-/bu
 benzeltlager?tmpl=component
DESCRIPTION: Dieser Event wurde importiert von: https://eja-aalen.de/medien/kalender/ic
 alrepeat.detail/2023/07/28/1009/-/bubenzeltlager?tmpl=component
X-ALT-DESC;FMTTYPE=text/html: <a href="https://eja-aalen.de/medien/kalender/icalrepeat.detail/2023/07/28
 /1009/-/bubenzeltlager?tmpl=component">Dieser Event wurde importiert von: h
 ttps://eja-aalen.de/medien/kalender/icalrepeat.detail/2023/07/28/1009/-/bub
 enzeltlager?tmpl=component</a>DTSTAMP:20260423T185648
DTSTART;VALUE=DATE:20230728
DTEND;VALUE=DATE:20230807
SEQUENCE:0
TRANSP:OPAQUE
END:VEVENT
END:VCALENDAR