BEGIN:VCALENDAR
VERSION:2.0
PRODID:-//jEvents 2.0 for Joomla//EN
CALSCALE:GREGORIAN
METHOD:PUBLISH
BEGIN:VEVENT
UID:1ca89fde5c6cdf7175868be7f80664ef
CATEGORIES:Jugendgottesdienste
CREATED:20230822T121046
SUMMARY:re:CHARGE Jugendgottesdienst
LOCATION:Evangelisches Gemeindehaus Wasseralfingen
URL;VALUE=URI:https://eja-aalen.de/medien/kalender/icalrepeat.detail/2023/09/10/1011/-/re
 -charge-jugendgottesdienst?tmpl=component
DESCRIPTION:<p>Thema VATER</p><p>&nbsp;</p> <a href="https://eja-aalen.de/medien/kalend
 er/icalrepeat.detail/2023/09/10/1011/-/re-charge-jugendgottesdienst?tmpl=co
 mponent">Dieser Event wurde importiert von: https://eja-aalen.de/medien/kal
 ender/icalrepeat.detail/2023/09/10/1011/-/re-charge-jugendgottesdienst?tmpl
 =component</a>DTSTAMP:20260423T020501
DTSTART:20230910T080000
DTEND:20230910T170000
SEQUENCE:0
TRANSP:OPAQUE
END:VEVENT
END:VCALENDAR