BEGIN:VCALENDAR
VERSION:2.0
PRODID:-//jEvents 2.0 for Joomla//EN
CALSCALE:GREGORIAN
METHOD:PUBLISH
BEGIN:VEVENT
UID:8901f724121341d42e151e60c136fa8f
CATEGORIES:Jugendgottesdienste
CREATED:20230822T121300
SUMMARY:re:CHARGE Jugendgottesdienst
LOCATION:Evangelisches Gemeindehaus Aalen
URL;VALUE=URI:https://eja-aalen.de/medien/kalender/icalrepeat.detail/2023/10/22/1012/-/re
 -charge-jugendgottesdienst?tmpl=component
DESCRIPTION:Thema: SOHN\n Dieser Event wurde importiert von: https://eja-aalen.de/medie
 n/kalender/icalrepeat.detail/2023/10/22/1012/-/re-charge-jugendgottesdienst
 ?tmpl=component
X-ALT-DESC;FMTTYPE=text/html:<p>Thema: SOHN</p> <a href="https://eja-aalen.de/medien/kalender/icalrepeat
 .detail/2023/10/22/1012/-/re-charge-jugendgottesdienst?tmpl=component">Dies
 er Event wurde importiert von: https://eja-aalen.de/medien/kalender/icalrep
 eat.detail/2023/10/22/1012/-/re-charge-jugendgottesdienst?tmpl=component</a
 >DTSTAMP:20260423T224322
DTSTART:20231022T170000
DTEND:20231022T190000
SEQUENCE:0
TRANSP:OPAQUE
END:VEVENT
END:VCALENDAR