BEGIN:VCALENDAR
VERSION:2.0
PRODID:-//jEvents 2.0 for Joomla//EN
CALSCALE:GREGORIAN
METHOD:PUBLISH
BEGIN:VEVENT
UID:2de88528cc164bbe1d4b87228e070865
CATEGORIES:Jugendgottesdienste
CREATED:20230822T121400
SUMMARY:re:CHARGE Jugendgottesdienst
LOCATION:Ev. Gemeindehaus in Bopfingen
URL;VALUE=URI:https://eja-aalen.de/medien/kalender/icalrepeat.detail/2023/11/26/1013/-/re
 -charge-jugendgottesdienst?tmpl=component
DESCRIPTION:Thema: Heiliger Geist\n Dieser Event wurde importiert von: https://eja-aale
 n.de/medien/kalender/icalrepeat.detail/2023/11/26/1013/-/re-charge-jugendgo
 ttesdienst?tmpl=component
X-ALT-DESC;FMTTYPE=text/html:<p>Thema: Heiliger Geist</p> <a href="https://eja-aalen.de/medien/kalender/
 icalrepeat.detail/2023/11/26/1013/-/re-charge-jugendgottesdienst?tmpl=compo
 nent">Dieser Event wurde importiert von: https://eja-aalen.de/medien/kalend
 er/icalrepeat.detail/2023/11/26/1013/-/re-charge-jugendgottesdienst?tmpl=co
 mponent</a>DTSTAMP:20260424T105522
DTSTART:20231126T170000
DTEND:20231126T190000
SEQUENCE:0
TRANSP:OPAQUE
END:VEVENT
END:VCALENDAR