BEGIN:VCALENDAR
VERSION:2.0
PRODID:-//jEvents 2.0 for Joomla//EN
CALSCALE:GREGORIAN
METHOD:PUBLISH
BEGIN:VEVENT
UID:c207bdbd65ffc8dc1e8f50ef122eb1b4
CATEGORIES:Freizeiten
CREATED:20230830T112211
SUMMARY:LKB - Sommerfreizeit
LOCATION:Trochtelfingen bei Bopfingen
URL;VALUE=URI:https://eja-aalen.de/medien/kalender/icalrepeat.detail/2023/08/21/1014/-/lk
 b-sommerfreizeit?tmpl=component
DESCRIPTION:<p>LKB oifach schee...!!!</p><p>10 Tage Nachmittagsbetreuung für Kinder zwi
 schen 6 und 12 Jahren.</p><p>Nur mit Anmeldung.</p> <a href="https://eja-aa
 len.de/medien/kalender/icalrepeat.detail/2023/08/21/1014/-/lkb-sommerfreize
 it?tmpl=component">Dieser Event wurde importiert von: https://eja-aalen.de/
 medien/kalender/icalrepeat.detail/2023/08/21/1014/-/lkb-sommerfreizeit?tmpl
 =component</a>CONTACT:Diese E-Mail-Adresse ist vor Spambots geschützt! Zur Anzeige muss JavaScript eingeschaltet sein!
				document.getElementById('cloakc4d5470b3b9fc4092cfd26dda84323e4').innerHTML = '';
				var prefix = '&#109;a' + 'i&#108;' + '&#116;o';
				var path = 'hr' + 'ef' + '=';
				var addyc4d5470b3b9fc4092cfd26dda84323e4 = 'lkb' + '&#64;';
				addyc4d5470b3b9fc4092cfd26dda84323e4 = addyc4d5470b3b9fc4092cfd26dda84323e4 + '&#101;j&#97;-&#97;&#97;l&#101;n' + '&#46;' + 'd&#101;';
				var addy_textc4d5470b3b9fc4092cfd26dda84323e4 = 'lkb' + '&#64;' + '&#101;j&#97;-&#97;&#97;l&#101;n' + '&#46;' + 'd&#101;';document.getElementById('cloakc4d5470b3b9fc4092cfd26dda84323e4').innerHTML += '<a ' + path + '\'' + prefix + ':' + addyc4d5470b3b9fc4092cfd26dda84323e4 + '\'>'+addy_textc4d5470b3b9fc4092cfd26dda84323e4+'';
		
DTSTAMP:20260425T220133
DTSTART;VALUE=DATE:20230821
DTEND;VALUE=DATE:20230902
SEQUENCE:0
TRANSP:OPAQUE
END:VEVENT
END:VCALENDAR