BEGIN:VCALENDAR
VERSION:2.0
PRODID:-//jEvents 2.0 for Joomla//EN
CALSCALE:GREGORIAN
METHOD:PUBLISH
BEGIN:VEVENT
UID:22e0ab6e837495fdcd043816a1a73157
CATEGORIES:Freizeiten
CREATED:20231005T113939
SUMMARY:Mädchenzeltlager 
LOCATION:Stockensägmühle Ellwangen 
URL;VALUE=URI:https://eja-aalen.de/medien/kalender/icalrepeat.detail/2024/08/05/1018/-/ma
 edchenzeltlager?tmpl=component
DESCRIPTION:10 Tage Zeltlager an der Stockesägmühle für Mädchen im Alter von 8 bis 13 J
 ahren. \n Dieser Event wurde importiert von: https://eja-aalen.de/medien/ka
 lender/icalrepeat.detail/2024/08/05/1018/-/maedchenzeltlager?tmpl=component
X-ALT-DESC;FMTTYPE=text/html:<p>10 Tage Zeltlager an der Stockesägmühle für Mädchen im Alter von 8 bis 1
 3 Jahren.&nbsp;</p> <a href="https://eja-aalen.de/medien/kalender/icalrepea
 t.detail/2024/08/05/1018/-/maedchenzeltlager?tmpl=component">Dieser Event w
 urde importiert von: https://eja-aalen.de/medien/kalender/icalrepeat.detail
 /2024/08/05/1018/-/maedchenzeltlager?tmpl=component</a>DTSTAMP:20260422T125420
DTSTART;VALUE=DATE:20240805
DTEND;VALUE=DATE:20240815
SEQUENCE:0
TRANSP:OPAQUE
END:VEVENT
END:VCALENDAR