BEGIN:VCALENDAR
VERSION:2.0
PRODID:-//jEvents 2.0 for Joomla//EN
CALSCALE:GREGORIAN
METHOD:PUBLISH
BEGIN:VEVENT
UID:6b2dc10c600c2767468a25d79909f2ea
CATEGORIES:Freizeiten
CREATED:20231107T090900
SUMMARY:Winterwochenende ins Pitztal 
URL;VALUE=URI:https://eja-aalen.de/medien/kalender/icalrepeat.detail/2024/01/04/1021/-/wi
 nterwochenende-ins-pitztal?tmpl=component
DESCRIPTION:Du bist 16 Jahre oder älter und hast Lust auf Winter Action? - Dann komm mi
 t uns zum Winterwochenende ins Pitztal.\nAuf dich warten vier geniale Ski-,
  Snowboard-, oder Wintererlebnistage mit toller Gemeinschaft auf und neben 
 der Piste, gemeinsames Kochen sowie ein abwechslungsreiches Abendprogramm m
 it Spielen, Musik und Andacht. \nWir freuen uns auf DICH!\n Dieser Event wu
 rde importiert von: https://eja-aalen.de/medien/kalender/icalrepeat.detail/
 2024/01/04/1021/-/winterwochenende-ins-pitztal?tmpl=component
X-ALT-DESC;FMTTYPE=text/html:<p>Du bist 16 Jahre oder älter und hast Lust auf Winter Action? - Dann komm
  mit uns zum Winterwochenende ins Pitztal.</p><p>Auf dich warten vier genia
 le Ski-, Snowboard-, oder Wintererlebnistage mit toller Gemeinschaft auf un
 d neben der Piste, gemeinsames Kochen sowie ein abwechslungsreiches Abendpr
 ogramm mit Spielen, Musik und Andacht.&nbsp;</p><p>Wir freuen uns auf DICH!
 </p> <a href="https://eja-aalen.de/medien/kalender/icalrepeat.detail/2024/0
 1/04/1021/-/winterwochenende-ins-pitztal?tmpl=component">Dieser Event wurde
  importiert von: https://eja-aalen.de/medien/kalender/icalrepeat.detail/202
 4/01/04/1021/-/winterwochenende-ins-pitztal?tmpl=component</a>CONTACT:Diese E-Mail-Adresse ist vor Spambots geschützt! Zur Anzeige muss JavaScript eingeschaltet sein!
				document.getElementById('cloak19da3e8e4cbad9b4c749212d3698b9e8').innerHTML = '';
				var prefix = '&#109;a' + 'i&#108;' + '&#116;o';
				var path = 'hr' + 'ef' + '=';
				var addy19da3e8e4cbad9b4c749212d3698b9e8 = 'w&#105;nt&#101;rw&#101;' + '&#64;';
				addy19da3e8e4cbad9b4c749212d3698b9e8 = addy19da3e8e4cbad9b4c749212d3698b9e8 + '&#101;j&#97;-&#97;&#97;l&#101;n' + '&#46;' + 'd&#101;';
				var addy_text19da3e8e4cbad9b4c749212d3698b9e8 = 'w&#105;nt&#101;rw&#101;' + '&#64;' + '&#101;j&#97;-&#97;&#97;l&#101;n' + '&#46;' + 'd&#101;';document.getElementById('cloak19da3e8e4cbad9b4c749212d3698b9e8').innerHTML += '<a ' + path + '\'' + prefix + ':' + addy19da3e8e4cbad9b4c749212d3698b9e8 + '\'>'+addy_text19da3e8e4cbad9b4c749212d3698b9e8+'';
		
DTSTAMP:20260422T125439
DTSTART;VALUE=DATE:20240104
DTEND;VALUE=DATE:20240108
SEQUENCE:0
TRANSP:OPAQUE
END:VEVENT
END:VCALENDAR