BEGIN:VCALENDAR
VERSION:2.0
PRODID:-//jEvents 2.0 for Joomla//EN
CALSCALE:GREGORIAN
METHOD:PUBLISH
BEGIN:VEVENT
UID:691180a626584d053044d41a95b31cae
CATEGORIES:Veranstaltungen
CREATED:20231117T111947
SUMMARY:O-Aktion
URL;VALUE=URI:https://eja-aalen.de/medien/kalender/icalrepeat.detail/2023/12/02/1022/-/o-
 aktion?tmpl=component
DESCRIPTION:Unsere alljährliche Orangenaktion findet am ersten Adventswochenende (02.12
 .-03.12.2023) statt.\nHierbei verkaufen verschiedene Gruppen und Gemeinden 
 faire Bio-Orangen auf Spendenbasis. Der Erlös kommt dieses Jahr dem Projekt
  "Äthiopien – Starker Einsatz für Straßen- und Waisenkinder" zugute. \n Die
 ser Event wurde importiert von: https://eja-aalen.de/medien/kalender/icalre
 peat.detail/2023/12/02/1022/-/o-aktion?tmpl=component
X-ALT-DESC;FMTTYPE=text/html:<p>Unsere alljährliche Orangenaktion&nbsp;findet am&nbsp;ersten Adventswoch
 enende (02.12.-03.12.2023) statt.</p><p>Hierbei verkaufen verschiedene Grup
 pen und Gemeinden faire Bio-Orangen auf Spendenbasis. Der Erlös kommt diese
 s Jahr dem Projekt "Äthiopien – Starker Einsatz für Straßen- und Waisenkind
 er" zugute.&nbsp;</p> <a href="https://eja-aalen.de/medien/kalender/icalrep
 eat.detail/2023/12/02/1022/-/o-aktion?tmpl=component">Dieser Event wurde im
 portiert von: https://eja-aalen.de/medien/kalender/icalrepeat.detail/2023/1
 2/02/1022/-/o-aktion?tmpl=component</a>CONTACT:Diese E-Mail-Adresse ist vor Spambots geschützt! Zur Anzeige muss JavaScript eingeschaltet sein!
				document.getElementById('cloakb0abf9db20ba4d7f06d48a5925635b5f').innerHTML = '';
				var prefix = '&#109;a' + 'i&#108;' + '&#116;o';
				var path = 'hr' + 'ef' + '=';
				var addyb0abf9db20ba4d7f06d48a5925635b5f = '&#111;r&#97;ng&#101;n&#97;kt&#105;&#111;n' + '&#64;';
				addyb0abf9db20ba4d7f06d48a5925635b5f = addyb0abf9db20ba4d7f06d48a5925635b5f + '&#101;j&#97;-&#97;&#97;l&#101;n' + '&#46;' + 'd&#101;';
				var addy_textb0abf9db20ba4d7f06d48a5925635b5f = '&#111;r&#97;ng&#101;n&#97;kt&#105;&#111;n' + '&#64;' + '&#101;j&#97;-&#97;&#97;l&#101;n' + '&#46;' + 'd&#101;';document.getElementById('cloakb0abf9db20ba4d7f06d48a5925635b5f').innerHTML += '<a ' + path + '\'' + prefix + ':' + addyb0abf9db20ba4d7f06d48a5925635b5f + '\'>'+addy_textb0abf9db20ba4d7f06d48a5925635b5f+'';
		
DTSTAMP:20260424T042149
DTSTART;VALUE=DATE:20231202
DTEND;VALUE=DATE:20231204
SEQUENCE:0
TRANSP:OPAQUE
END:VEVENT
END:VCALENDAR