BEGIN:VCALENDAR
VERSION:2.0
PRODID:-//jEvents 2.0 for Joomla//EN
CALSCALE:GREGORIAN
METHOD:PUBLISH
BEGIN:VEVENT
UID:05563381e797fa8aae586e2bc8c3818a
CATEGORIES:Jugendgottesdienste
CREATED:20231124T102900
SUMMARY:re:CHARGE Jugendgottesdienst
LOCATION:Speratushaus in Ellwangen
URL;VALUE=URI:https://eja-aalen.de/medien/kalender/icalrepeat.detail/2024/02/03/1023/-/re
 -charge-jugendgottesdienst?tmpl=component
DESCRIPTION: Dieser Event wurde importiert von: https://eja-aalen.de/medien/kalender/ic
 alrepeat.detail/2024/02/03/1023/-/re-charge-jugendgottesdienst?tmpl=compone
 nt
X-ALT-DESC;FMTTYPE=text/html: <a href="https://eja-aalen.de/medien/kalender/icalrepeat.detail/2024/02/03
 /1023/-/re-charge-jugendgottesdienst?tmpl=component">Dieser Event wurde imp
 ortiert von: https://eja-aalen.de/medien/kalender/icalrepeat.detail/2024/02
 /03/1023/-/re-charge-jugendgottesdienst?tmpl=component</a>CONTACT:Diese E-Mail-Adresse ist vor Spambots geschützt! Zur Anzeige muss JavaScript eingeschaltet sein!
				document.getElementById('cloak6fef3bc4d64d635cd1776245e8aa4217').innerHTML = '';
				var prefix = '&#109;a' + 'i&#108;' + '&#116;o';
				var path = 'hr' + 'ef' + '=';
				var addy6fef3bc4d64d635cd1776245e8aa4217 = 'j&#117;g&#101;ndg&#111;tt&#101;sd&#105;&#101;nst' + '&#64;';
				addy6fef3bc4d64d635cd1776245e8aa4217 = addy6fef3bc4d64d635cd1776245e8aa4217 + '&#101;j&#97;-&#97;&#97;l&#101;n' + '&#46;' + 'd&#101;';
				var addy_text6fef3bc4d64d635cd1776245e8aa4217 = 'j&#117;g&#101;ndg&#111;tt&#101;sd&#105;&#101;nst' + '&#64;' + '&#101;j&#97;-&#97;&#97;l&#101;n' + '&#46;' + 'd&#101;';document.getElementById('cloak6fef3bc4d64d635cd1776245e8aa4217').innerHTML += '<a ' + path + '\'' + prefix + ':' + addy6fef3bc4d64d635cd1776245e8aa4217 + '\'>'+addy_text6fef3bc4d64d635cd1776245e8aa4217+'';
		
DTSTAMP:20260423T072924
DTSTART:20240203T170000
DTEND:20240203T190000
SEQUENCE:0
TRANSP:OPAQUE
END:VEVENT
END:VCALENDAR