BEGIN:VCALENDAR
VERSION:2.0
PRODID:-//jEvents 2.0 for Joomla//EN
CALSCALE:GREGORIAN
METHOD:PUBLISH
BEGIN:VEVENT
UID:6f90f50b2d8e9f1b763abf864061c9d6
CATEGORIES:Veranstaltungen
CREATED:20240209T080658
SUMMARY:Flurputzete in Essingen 
LOCATION:Essingen 
URL;VALUE=URI:https://eja-aalen.de/medien/kalender/icalrepeat.detail/2024/03/06/1028/-/fl
 urputzete-in-essingen?tmpl=component
DESCRIPTION:Wir wollen einen Teil dazu beitragen, die Schöpfung zu bewahren. Darum pack
 en wir mit an beim Aufräumen, damit die Tier und Pflanzenwelt vor unserem M
 üll geschützt ist. \nSäcke und Handschuhe werden gestellt. Bitte denkt an w
 etterfeste Kleidung \nWer mitmachen möchte, darf uns eine kurze Mail an  (m
 ailto:klimafasten@eja-aalen.de)Diese E-Mail-Adresse ist vor Spambots geschü
 tzt! Zur Anzeige muss JavaScript eingeschaltet sein!
				document.getElemen
 tById('cloak389f430d384d8f125b55ee1fc83d1eb5').innerHTML = '';
				var pref
 ix = '&#109;a' + 'i&#108;' + '&#116;o';
				var path = 'hr' + 'ef' + '=';
	
 			var addy389f430d384d8f125b55ee1fc83d1eb5 = 'kl&#105;m&#97;f&#97;st&#101;
 n' + '&#64;';
				addy389f430d384d8f125b55ee1fc83d1eb5 = addy389f430d384d8f
 125b55ee1fc83d1eb5 + '&#101;j&#97;-&#97;&#97;l&#101;n' + '&#46;' + 'd&#101;
 ';
				var addy_text389f430d384d8f125b55ee1fc83d1eb5 = 'kl&#105;m&#97;f&#97
 ;st&#101;n' + '&#64;' + '&#101;j&#97;-&#97;&#97;l&#101;n' + '&#46;' + 'd&#1
 01;';document.getElementById('cloak389f430d384d8f125b55ee1fc83d1eb5').inner
 HTML += '<a ' + path + '\'' + prefix + ':' + addy389f430d384d8f125b55ee1fc8
 3d1eb5 + '\'>'+addy_text389f430d384d8f125b55ee1fc83d1eb5+'';
		 mit der pas
 senden Handschuhgröße schreiben.\n Dieser Event wurde importiert von: https
 ://eja-aalen.de/medien/kalender/icalrepeat.detail/2024/03/06/1028/-/flurput
 zete-in-essingen?tmpl=component
X-ALT-DESC;FMTTYPE=text/html:<p>Wir wollen einen Teil dazu beitragen, die Schöpfung zu bewahren. Darum p
 acken wir mit an beim Aufräumen, damit die Tier und Pflanzenwelt vor unsere
 m Müll geschützt ist.&nbsp;</p><p>Säcke und Handschuhe werden gestellt. Bit
 te denkt an wetterfeste Kleidung&nbsp;</p><p>Wer mitmachen möchte, darf uns
  eine kurze Mail&nbsp;an&nbsp;<span id="cloak070eb73608c525a86b4844b394ef81
 49"><a href="mailto:klimafasten@eja-aalen.de"></a><span id="cloak389f430d38
 4d8f125b55ee1fc83d1eb5">Diese E-Mail-Adresse ist vor Spambots geschützt! Zu
 r Anzeige muss JavaScript eingeschaltet sein!</span><script type='text/java
 script'>
				document.getElementById('cloak389f430d384d8f125b55ee1fc83d1eb5
 ').innerHTML = '';
				var prefix = '&#109;a' + 'i&#108;' + '&#116;o';
				
 var path = 'hr' + 'ef' + '=';
				var addy389f430d384d8f125b55ee1fc83d1eb5 
 = 'kl&#105;m&#97;f&#97;st&#101;n' + '&#64;';
				addy389f430d384d8f125b55ee
 1fc83d1eb5 = addy389f430d384d8f125b55ee1fc83d1eb5 + '&#101;j&#97;-&#97;&#97
 ;l&#101;n' + '&#46;' + 'd&#101;';
				var addy_text389f430d384d8f125b55ee1f
 c83d1eb5 = 'kl&#105;m&#97;f&#97;st&#101;n' + '&#64;' + '&#101;j&#97;-&#97;&
 #97;l&#101;n' + '&#46;' + 'd&#101;';document.getElementById('cloak389f430d3
 84d8f125b55ee1fc83d1eb5').innerHTML += '<a ' + path + '\'' + prefix + ':' +
  addy389f430d384d8f125b55ee1fc83d1eb5 + '\'>'+addy_text389f430d384d8f125b55
 ee1fc83d1eb5+'<\/a>';
		</script></span>&nbsp;mit der passenden Handschuhgr
 öße schreiben.</p> <a href="https://eja-aalen.de/medien/kalender/icalrepeat
 .detail/2024/03/06/1028/-/flurputzete-in-essingen?tmpl=component">Dieser Ev
 ent wurde importiert von: https://eja-aalen.de/medien/kalender/icalrepeat.d
 etail/2024/03/06/1028/-/flurputzete-in-essingen?tmpl=component</a>CONTACT:Diese E-Mail-Adresse ist vor Spambots geschützt! Zur Anzeige muss JavaScript eingeschaltet sein!
				document.getElementById('cloaka29dc8f726ffea0a0a6847feb22c1306').innerHTML = '';
				var prefix = '&#109;a' + 'i&#108;' + '&#116;o';
				var path = 'hr' + 'ef' + '=';
				var addya29dc8f726ffea0a0a6847feb22c1306 = 'kl&#105;m&#97;f&#97;st&#101;n' + '&#64;';
				addya29dc8f726ffea0a0a6847feb22c1306 = addya29dc8f726ffea0a0a6847feb22c1306 + '&#101;j&#97;-&#97;&#97;l&#101;n' + '&#46;' + 'd&#101;';
				var addy_texta29dc8f726ffea0a0a6847feb22c1306 = 'kl&#105;m&#97;f&#97;st&#101;n' + '&#64;' + '&#101;j&#97;-&#97;&#97;l&#101;n' + '&#46;' + 'd&#101;';document.getElementById('cloaka29dc8f726ffea0a0a6847feb22c1306').innerHTML += '<a ' + path + '\'' + prefix + ':' + addya29dc8f726ffea0a0a6847feb22c1306 + '\'>'+addy_texta29dc8f726ffea0a0a6847feb22c1306+'';
		
X-EXTRAINFO:Wir treffen uns vor dem neuen Gemeindehaus in Essingen um 15:45 Uhr 
DTSTAMP:20260424T042205
DTSTART:20240306T154500
DTEND:20240306T170000
SEQUENCE:0
TRANSP:OPAQUE
END:VEVENT
END:VCALENDAR