BEGIN:VCALENDAR
VERSION:2.0
PRODID:-//jEvents 2.0 for Joomla//EN
CALSCALE:GREGORIAN
METHOD:PUBLISH
BEGIN:VEVENT
UID:0a3988775680ff55be65a212e50827f1
CATEGORIES:Veranstaltungen
CREATED:20240209T081248
SUMMARY:#klimafasten - Wasserratten on Tour 
LOCATION:Treffpunkt am evangelischen Gemeindehaus in Westhausen 
URL;VALUE=URI:https://eja-aalen.de/medien/kalender/icalrepeat.detail/2024/09/06/1030/-/kl
 imafasten-wasserratten-on-tour?tmpl=component
DESCRIPTION:Kanuausflug: \nDu hast Lust auf ein Abenteuer? Dann komm mit uns, die Brenz
  unsicher machen. \nBei einem gemeinsamen Kanuausflug wollen wir den Tag ge
 meinsam verbringen. Spaß und Action kommen dabei garantiert nicht zu kurz. 
 \nDu hast Lust dabei zu sein?\nHier geht's zur Anmeldung (https://eja-aalen
 .amosweb.de/reg/anmeldung/124950/start)\n Dieser Event wurde importiert von
 : https://eja-aalen.de/medien/kalender/icalrepeat.detail/2024/09/06/1030/-/
 klimafasten-wasserratten-on-tour?tmpl=component
X-ALT-DESC;FMTTYPE=text/html:<p>Kanuausflug:&nbsp;</p><p>Du hast Lust auf ein Abenteuer? Dann komm mit u
 ns, die Brenz unsicher machen.&nbsp;</p><p>Bei einem gemeinsamen Kanuausflu
 g wollen wir den Tag gemeinsam verbringen. Spaß und Action kommen dabei gar
 antiert nicht zu kurz.&nbsp;</p><p>Du hast Lust dabei zu sein?</p><p>Hier g
 eht's zur&nbsp;<a href="https://eja-aalen.amosweb.de/reg/anmeldung/124950/s
 tart">Anmeldung</a></p> <a href="https://eja-aalen.de/medien/kalender/icalr
 epeat.detail/2024/09/06/1030/-/klimafasten-wasserratten-on-tour?tmpl=compon
 ent">Dieser Event wurde importiert von: https://eja-aalen.de/medien/kalende
 r/icalrepeat.detail/2024/09/06/1030/-/klimafasten-wasserratten-on-tour?tmpl
 =component</a>CONTACT:Diese E-Mail-Adresse ist vor Spambots geschützt! Zur Anzeige muss JavaScript eingeschaltet sein!
				document.getElementById('cloak449cc82685fb2e687162178ca6bb2c2a').innerHTML = '';
				var prefix = '&#109;a' + 'i&#108;' + '&#116;o';
				var path = 'hr' + 'ef' + '=';
				var addy449cc82685fb2e687162178ca6bb2c2a = 'kl&#105;m&#97;f&#97;st&#101;n' + '&#64;';
				addy449cc82685fb2e687162178ca6bb2c2a = addy449cc82685fb2e687162178ca6bb2c2a + '&#101;j&#97;-&#97;&#97;l&#101;n' + '&#46;' + 'd&#101;';
				var addy_text449cc82685fb2e687162178ca6bb2c2a = 'kl&#105;m&#97;f&#97;st&#101;n' + '&#64;' + '&#101;j&#97;-&#97;&#97;l&#101;n' + '&#46;' + 'd&#101;';document.getElementById('cloak449cc82685fb2e687162178ca6bb2c2a').innerHTML += '<a ' + path + '\'' + prefix + ':' + addy449cc82685fb2e687162178ca6bb2c2a + '\'>'+addy_text449cc82685fb2e687162178ca6bb2c2a+'';
		
X-EXTRAINFO:Alter: ab 13 Jahren \nKosten: 10€ pro Person 
DTSTAMP:20260424T095023
DTSTART:20240906T090000
DTEND:20240906T160000
SEQUENCE:0
TRANSP:OPAQUE
END:VEVENT
END:VCALENDAR