BEGIN:VCALENDAR
VERSION:2.0
PRODID:-//jEvents 2.0 for Joomla//EN
CALSCALE:GREGORIAN
METHOD:PUBLISH
BEGIN:VEVENT
UID:a6c9c5c40de450d1d9e30cc283ac9b84
CATEGORIES:Veranstaltungen
CREATED:20240209T081501
SUMMARY:#klimafasten - Kochen
LOCATION:ev. Gemeindehaus in Aalen 
URL;VALUE=URI:https://eja-aalen.de/medien/kalender/icalrepeat.detail/2024/09/21/1031/-/kl
 imafasten-kochen?tmpl=component
DESCRIPTION:Klima Küchenchefs: \nGemeinsam wollen wir die Schätze, die hier bei uns wac
 hsen verwenden und daraus ein leckeres Menü kochen. \nEin Kochnachmittag mi
 t einer großen Portion Spaß und Gemeinschaft wartet auf DICH! \nSei mit dab
 ei und erlebe mit uns, wie viel Spaß regionales und saisonales Kochen mache
 n kann. \nHier geht's zur Anmeldung (https://eja-aalen.amosweb.de/reg/anmel
 dung/124954/start) \n Dieser Event wurde importiert von: https://eja-aalen.
 de/medien/kalender/icalrepeat.detail/2024/09/21/1031/-/klimafasten-kochen?t
 mpl=component
X-ALT-DESC;FMTTYPE=text/html:<p>Klima&nbsp;<span style="text-decoration: line-through;">Küchen</span>che
 fs:&nbsp;</p><p>Gemeinsam wollen wir die Schätze, die hier bei uns wachsen 
 verwenden und daraus ein leckeres Menü kochen.&nbsp;</p><p>Ein Kochnachmitt
 ag mit einer großen Portion Spaß und&nbsp;Gemeinschaft wartet auf DICH!&nbs
 p;</p><p>Sei mit dabei und erlebe mit uns, wie viel&nbsp;Spaß regionales un
 d saisonales Kochen machen kann.&nbsp;</p><p>Hier geht's zur&nbsp;<a href="
 https://eja-aalen.amosweb.de/reg/anmeldung/124954/start">Anmeldung</a>&nbsp
 ;</p> <a href="https://eja-aalen.de/medien/kalender/icalrepeat.detail/2024/
 09/21/1031/-/klimafasten-kochen?tmpl=component">Dieser Event wurde importie
 rt von: https://eja-aalen.de/medien/kalender/icalrepeat.detail/2024/09/21/1
 031/-/klimafasten-kochen?tmpl=component</a>CONTACT:Diese E-Mail-Adresse ist vor Spambots geschützt! Zur Anzeige muss JavaScript eingeschaltet sein!
				document.getElementById('cloakb7b3d12e99c0d382545de1bb2aa11887').innerHTML = '';
				var prefix = '&#109;a' + 'i&#108;' + '&#116;o';
				var path = 'hr' + 'ef' + '=';
				var addyb7b3d12e99c0d382545de1bb2aa11887 = 'kl&#105;m&#97;f&#97;st&#101;n' + '&#64;';
				addyb7b3d12e99c0d382545de1bb2aa11887 = addyb7b3d12e99c0d382545de1bb2aa11887 + '&#101;j&#97;-&#97;&#97;l&#101;n' + '&#46;' + 'd&#101;';
				var addy_textb7b3d12e99c0d382545de1bb2aa11887 = 'kl&#105;m&#97;f&#97;st&#101;n' + '&#64;' + '&#101;j&#97;-&#97;&#97;l&#101;n' + '&#46;' + 'd&#101;';document.getElementById('cloakb7b3d12e99c0d382545de1bb2aa11887').innerHTML += '<a ' + path + '\'' + prefix + ':' + addyb7b3d12e99c0d382545de1bb2aa11887 + '\'>'+addy_textb7b3d12e99c0d382545de1bb2aa11887+'';
		
X-EXTRAINFO:Alter: 10 - 13 Jahre\nKosten: 8€ pro Person 
DTSTAMP:20260424T140609
DTSTART:20240921T150000
DTEND:20240921T190000
SEQUENCE:0
TRANSP:OPAQUE
END:VEVENT
END:VCALENDAR