BEGIN:VCALENDAR
VERSION:2.0
PRODID:-//jEvents 2.0 for Joomla//EN
CALSCALE:GREGORIAN
METHOD:PUBLISH
BEGIN:VEVENT
UID:e717330844e0502f0ac34dc2d72822b1
CATEGORIES:Freizeiten
CREATED:20240209T082215
SUMMARY:LKB - Sommerfreizeit 
LOCATION:Trochtelfingen bei Bopfingen
URL;VALUE=URI:https://eja-aalen.de/medien/kalender/icalrepeat.detail/2024/08/19/1032/-/lk
 b-sommerfreizeit?tmpl=component
DESCRIPTION:LKB oifach schee...!!!10 Tage Nachmittagsbetreuung von Montag bis Freitag f
 ür Kinder zwischen 7 und 12 Jahren.\nNur mit Anmeldung.\nhttps://www.eja-aa
 len.de/freizeiten/lkb (freizeiten/lkb) \n Dieser Event wurde importiert von
 : https://eja-aalen.de/medien/kalender/icalrepeat.detail/2024/08/19/1032/-/
 lkb-sommerfreizeit?tmpl=component
X-ALT-DESC;FMTTYPE=text/html:<div class="jev_evdt_desc"><h2><strong>LKB oifach schee...!!!</strong></h2>
 <p>10 Tage Nachmittagsbetreuung von Montag bis Freitag für Kinder zwischen 
 7 und 12 Jahren.</p><p>Nur mit Anmeldung.</p><p><a href="https://eja-aalen.
 de/freizeiten/lkb">https://www.eja-aalen.de/freizeiten/lkb</a>&nbsp;</p></d
 iv> <a href="https://eja-aalen.de/medien/kalender/icalrepeat.detail/2024/08
 /19/1032/-/lkb-sommerfreizeit?tmpl=component">Dieser Event wurde importiert
  von: https://eja-aalen.de/medien/kalender/icalrepeat.detail/2024/08/19/103
 2/-/lkb-sommerfreizeit?tmpl=component</a>CONTACT:Diese E-Mail-Adresse ist vor Spambots geschützt! Zur Anzeige muss JavaScript eingeschaltet sein!
				document.getElementById('cloak09c0243ba49f2d268787ad230bfc1311').innerHTML = '';
				var prefix = '&#109;a' + 'i&#108;' + '&#116;o';
				var path = 'hr' + 'ef' + '=';
				var addy09c0243ba49f2d268787ad230bfc1311 = 'lkb' + '&#64;';
				addy09c0243ba49f2d268787ad230bfc1311 = addy09c0243ba49f2d268787ad230bfc1311 + '&#101;j&#97;-&#97;&#97;l&#101;n' + '&#46;' + 'd&#101;';
				var addy_text09c0243ba49f2d268787ad230bfc1311 = 'lkb' + '&#64;' + '&#101;j&#97;-&#97;&#97;l&#101;n' + '&#46;' + 'd&#101;';document.getElementById('cloak09c0243ba49f2d268787ad230bfc1311').innerHTML += '<a ' + path + '\'' + prefix + ':' + addy09c0243ba49f2d268787ad230bfc1311 + '\'>'+addy_text09c0243ba49f2d268787ad230bfc1311+'';
		
DTSTAMP:20260422T143225
DTSTART;VALUE=DATE:20240819
DTEND;VALUE=DATE:20240831
SEQUENCE:0
TRANSP:OPAQUE
END:VEVENT
END:VCALENDAR