BEGIN:VCALENDAR
VERSION:2.0
PRODID:-//jEvents 2.0 for Joomla//EN
CALSCALE:GREGORIAN
METHOD:PUBLISH
BEGIN:VEVENT
UID:4f877e3f450e13eb7498127a0df83494
CATEGORIES:Freizeiten
CREATED:20240209T083043
SUMMARY:Jugendfreizeit Dänemark 
URL;VALUE=URI:https://eja-aalen.de/medien/kalender/icalrepeat.detail/2024/05/22/1033/-/ju
 gendfreizeit-daenemark?tmpl=component
DESCRIPTION:<p>In den Pfingstferien geht es für 10 Tage nach Dänemark. Wir wollen dort 
 geniale Tage mit viel Gemeinschaft, Aktion und Zeit mit Gott verbringen.</p
 ><p>Ein vielfältiges Programm, mit verschiedenen Spielen, kreativen Angebot
 en, Austausch über Gott und die Welt und einem Tagesausflug, wartet auf euc
 h. Neben festen Programmpunkten gibt es natürlich genügend freie Zeit, die 
 individuell gestaltet werden kann. Dabei kann man Volleyball spielen, Fußba
 ll spielen, chillen, quatschen und vieles mehr.</p><div>&nbsp;<a href="http
 s://iframe2.ejw-manager.de/veranstaltung/veranstaltung-details/44431/jugend
 freizeit-dnemark-2024-evang-jugendwerk-bezirk-aalen/">Hier geht's zur Anmel
 dung</a></div> <a href="https://eja-aalen.de/medien/kalender/icalrepeat.det
 ail/2024/05/22/1033/-/jugendfreizeit-daenemark?tmpl=component">Dieser Event
  wurde importiert von: https://eja-aalen.de/medien/kalender/icalrepeat.deta
 il/2024/05/22/1033/-/jugendfreizeit-daenemark?tmpl=component</a>CONTACT:Diese E-Mail-Adresse ist vor Spambots geschützt! Zur Anzeige muss JavaScript eingeschaltet sein!
				document.getElementById('cloak05c8ff42ca3cd3e4a6e1ba8814b86098').innerHTML = '';
				var prefix = '&#109;a' + 'i&#108;' + '&#116;o';
				var path = 'hr' + 'ef' + '=';
				var addy05c8ff42ca3cd3e4a6e1ba8814b86098 = 'j&#117;g&#101;ndfr&#101;&#105;z&#101;&#105;t' + '&#64;';
				addy05c8ff42ca3cd3e4a6e1ba8814b86098 = addy05c8ff42ca3cd3e4a6e1ba8814b86098 + '&#101;j&#97;-&#97;&#97;l&#101;n' + '&#46;' + 'd&#101;';
				var addy_text05c8ff42ca3cd3e4a6e1ba8814b86098 = 'j&#117;g&#101;ndfr&#101;&#105;z&#101;&#105;t' + '&#64;' + '&#101;j&#97;-&#97;&#97;l&#101;n' + '&#46;' + 'd&#101;';document.getElementById('cloak05c8ff42ca3cd3e4a6e1ba8814b86098').innerHTML += '<a ' + path + '\'' + prefix + ':' + addy05c8ff42ca3cd3e4a6e1ba8814b86098 + '\'>'+addy_text05c8ff42ca3cd3e4a6e1ba8814b86098+'';
		
DTSTAMP:20260422T210700
DTSTART;VALUE=DATE:20240522
DTEND;VALUE=DATE:20240601
SEQUENCE:0
TRANSP:OPAQUE
END:VEVENT
END:VCALENDAR