BEGIN:VCALENDAR
VERSION:2.0
PRODID:-//jEvents 2.0 for Joomla//EN
CALSCALE:GREGORIAN
METHOD:PUBLISH
BEGIN:VEVENT
UID:3682cabd274113e1842cca37b2edb61c
CATEGORIES:Veranstaltungen
CREATED:20240311T111306
SUMMARY:Jugend Alpha Kurs
LOCATION:Evangelisches Gemeindehaus Bopfingen
URL;VALUE=URI:https://eja-aalen.de/medien/kalender/icalrepeat.detail/2024/03/25/1035/-/ju
 gend-alpha-kurs?tmpl=component
DESCRIPTION:<p>In neun Treffen von März bis zu den Sommerferien wollen wir uns über den
  Glauben und das Leben austauschen und eine gute Zeit in Gemeinschaft erleb
 en.&nbsp;</p><p>Bei unserem ersten Treffen am Montag, den 25.März, werden w
 ir uns kennenlernen und gemeinsam die weiteren Termine festlegen.&nbsp;</p>
 <p>Wir freuen uns auf DICH!</p><p>&nbsp;</p><p>Weitere Infos gibt's in der 
 Signalgruppe:</p><p><a href="https://signal.group/#CjQKINkAx9s8aPpeVVXBaMyp
 wxM7-YHxKYyEiSt0Flq2YvkKEhA-A5Vogtcl8jV9F8ABb_oZ">Signalgruppe Alpha 2024</
 a></p> <a href="https://eja-aalen.de/medien/kalender/icalrepeat.detail/2024
 /03/25/1035/-/jugend-alpha-kurs?tmpl=component">Dieser Event wurde importie
 rt von: https://eja-aalen.de/medien/kalender/icalrepeat.detail/2024/03/25/1
 035/-/jugend-alpha-kurs?tmpl=component</a>CONTACT:Diese E-Mail-Adresse ist vor Spambots geschützt! Zur Anzeige muss JavaScript eingeschaltet sein!
				document.getElementById('cloak4ca52ebc5474784b404a5caec1caac46').innerHTML = '';
				var prefix = '&#109;a' + 'i&#108;' + '&#116;o';
				var path = 'hr' + 'ef' + '=';
				var addy4ca52ebc5474784b404a5caec1caac46 = 'l&#101;nk&#101;.m&#97;r&#105;&#101;' + '&#64;';
				addy4ca52ebc5474784b404a5caec1caac46 = addy4ca52ebc5474784b404a5caec1caac46 + '&#101;j&#97;-&#97;&#97;l&#101;n' + '&#46;' + 'd&#101;';
				var addy_text4ca52ebc5474784b404a5caec1caac46 = 'l&#101;nk&#101;.m&#97;r&#105;&#101;' + '&#64;' + '&#101;j&#97;-&#97;&#97;l&#101;n' + '&#46;' + 'd&#101;';document.getElementById('cloak4ca52ebc5474784b404a5caec1caac46').innerHTML += '<a ' + path + '\'' + prefix + ':' + addy4ca52ebc5474784b404a5caec1caac46 + '\'>'+addy_text4ca52ebc5474784b404a5caec1caac46+'';
		
X-EXTRAINFO:Alter: 14 bis 17 Jahre \n
DTSTAMP:20260425T024326
DTSTART:20240325T153000
SEQUENCE:0
TRANSP:OPAQUE
END:VEVENT
END:VCALENDAR