BEGIN:VCALENDAR
VERSION:2.0
PRODID:-//jEvents 2.0 for Joomla//EN
CALSCALE:GREGORIAN
METHOD:PUBLISH
BEGIN:VEVENT
UID:db5153ae467dd0a589818e838aa4fa1f
CATEGORIES:Freizeiten
CREATED:20240513T090033
SUMMARY:Auf geht's Wochenendtrip ins Allgäu
URL;VALUE=URI:https://eja-aalen.de/medien/kalender/icalrepeat.detail/2024/09/20/1038/-/au
 f-geht-s-wochenendtrip-ins-allgaeu?tmpl=component
DESCRIPTION:Auf geht's - Komm mit ins Allgäu \nErlebe mit uns ein geniales Wochenende m
 it Hüttenflair und Bergluft, Gemeinschaftsaktionen, geistlichem Input, leck
 erem Essen und viel freier Zeit, um die Seele baumeln zu lassen. \n Dieser 
 Event wurde importiert von: https://eja-aalen.de/medien/kalender/icalrepeat
 .detail/2024/09/20/1038/-/auf-geht-s-wochenendtrip-ins-allgaeu?tmpl=compone
 nt
X-ALT-DESC;FMTTYPE=text/html:<p><strong>Auf geht's - Komm mit ins Allgäu&nbsp;</strong></p><p>Erlebe mit
  uns ein geniales Wochenende mit Hüttenflair und Bergluft, Gemeinschaftsakt
 ionen, geistlichem Input, leckerem Essen und viel freier Zeit, um die Seele
  baumeln zu lassen.&nbsp;</p> <a href="https://eja-aalen.de/medien/kalender
 /icalrepeat.detail/2024/09/20/1038/-/auf-geht-s-wochenendtrip-ins-allgaeu?t
 mpl=component">Dieser Event wurde importiert von: https://eja-aalen.de/medi
 en/kalender/icalrepeat.detail/2024/09/20/1038/-/auf-geht-s-wochenendtrip-in
 s-allgaeu?tmpl=component</a>CONTACT:Diese E-Mail-Adresse ist vor Spambots geschützt! Zur Anzeige muss JavaScript eingeschaltet sein!
				document.getElementById('cloakd0a199344acf8750895a6ff1ac7aa612').innerHTML = '';
				var prefix = '&#109;a' + 'i&#108;' + '&#116;o';
				var path = 'hr' + 'ef' + '=';
				var addyd0a199344acf8750895a6ff1ac7aa612 = 'w&#111;ch&#101;n&#101;ndtr&#105;p' + '&#64;';
				addyd0a199344acf8750895a6ff1ac7aa612 = addyd0a199344acf8750895a6ff1ac7aa612 + '&#101;j&#97;-&#97;&#97;l&#101;n' + '&#46;' + 'd&#101;';
				var addy_textd0a199344acf8750895a6ff1ac7aa612 = 'w&#111;ch&#101;n&#101;ndtr&#105;p' + '&#64;' + '&#101;j&#97;-&#97;&#97;l&#101;n' + '&#46;' + 'd&#101;';document.getElementById('cloakd0a199344acf8750895a6ff1ac7aa612').innerHTML += '<a ' + path + '\'' + prefix + ':' + addyd0a199344acf8750895a6ff1ac7aa612 + '\'>'+addy_textd0a199344acf8750895a6ff1ac7aa612+'';
		
DTSTAMP:20260423T010203
DTSTART;VALUE=DATE:20240920
DTEND;VALUE=DATE:20240923
SEQUENCE:0
TRANSP:OPAQUE
END:VEVENT
END:VCALENDAR