BEGIN:VCALENDAR
VERSION:2.0
PRODID:-//jEvents 2.0 for Joomla//EN
CALSCALE:GREGORIAN
METHOD:PUBLISH
BEGIN:VEVENT
UID:b75925117e87a889e3f6a71a6fbb3442
CATEGORIES:Gremien
CREATED:20240630T135019
SUMMARY:BAK
LOCATION:Aalen
URL;VALUE=URI:https://eja-aalen.de/medien/kalender/icalrepeat.detail/2024/09/24/1041/-/ba
 k?tmpl=component
DESCRIPTION: <a href="https://eja-aalen.de/medien/kalender/icalrepeat.detail/2024/09/24
 /1041/-/bak?tmpl=component">Dieser Event wurde importiert von: https://eja-
 aalen.de/medien/kalender/icalrepeat.detail/2024/09/24/1041/-/bak?tmpl=compo
 nent</a>CONTACT:Diese E-Mail-Adresse ist vor Spambots geschützt! Zur Anzeige muss JavaScript eingeschaltet sein!
				document.getElementById('cloak51506a5f487a0f8487267ace929cd0fc').innerHTML = '';
				var prefix = '&#109;a' + 'i&#108;' + '&#116;o';
				var path = 'hr' + 'ef' + '=';
				var addy51506a5f487a0f8487267ace929cd0fc = 'v&#111;rs&#105;tz&#101;nd&#101;' + '&#64;';
				addy51506a5f487a0f8487267ace929cd0fc = addy51506a5f487a0f8487267ace929cd0fc + '&#101;j&#97;-&#97;&#97;l&#101;n' + '&#46;' + 'd&#101;';
				var addy_text51506a5f487a0f8487267ace929cd0fc = 'v&#111;rs&#105;tz&#101;nd&#101;' + '&#64;' + '&#101;j&#97;-&#97;&#97;l&#101;n' + '&#46;' + 'd&#101;';document.getElementById('cloak51506a5f487a0f8487267ace929cd0fc').innerHTML += '<a ' + path + '\'' + prefix + ':' + addy51506a5f487a0f8487267ace929cd0fc + '\'>'+addy_text51506a5f487a0f8487267ace929cd0fc+'';
		
DTSTAMP:20260422T140415
DTSTART:20240924T183000
SEQUENCE:0
TRANSP:OPAQUE
END:VEVENT
END:VCALENDAR