BEGIN:VCALENDAR
VERSION:2.0
PRODID:-//jEvents 2.0 for Joomla//EN
CALSCALE:GREGORIAN
METHOD:PUBLISH
BEGIN:VEVENT
UID:402e791b0d177dc0c2309ecae1cd895d
CATEGORIES:Gremien
CREATED:20240630T135118
SUMMARY:BAK
LOCATION:Neresheim
URL;VALUE=URI:https://eja-aalen.de/medien/kalender/icalrepeat.detail/2024/11/04/1042/-/ba
 k?tmpl=component
DESCRIPTION: Dieser Event wurde importiert von: https://eja-aalen.de/medien/kalender/ic
 alrepeat.detail/2024/11/04/1042/-/bak?tmpl=component
X-ALT-DESC;FMTTYPE=text/html: <a href="https://eja-aalen.de/medien/kalender/icalrepeat.detail/2024/11/04
 /1042/-/bak?tmpl=component">Dieser Event wurde importiert von: https://eja-
 aalen.de/medien/kalender/icalrepeat.detail/2024/11/04/1042/-/bak?tmpl=compo
 nent</a>CONTACT:Diese E-Mail-Adresse ist vor Spambots geschützt! Zur Anzeige muss JavaScript eingeschaltet sein!
				document.getElementById('cloakdde376af7a6dcc5a713fb5c71213bd1b').innerHTML = '';
				var prefix = '&#109;a' + 'i&#108;' + '&#116;o';
				var path = 'hr' + 'ef' + '=';
				var addydde376af7a6dcc5a713fb5c71213bd1b = 'v&#111;rs&#105;tz&#101;nd&#101;' + '&#64;';
				addydde376af7a6dcc5a713fb5c71213bd1b = addydde376af7a6dcc5a713fb5c71213bd1b + '&#101;j&#97;-&#97;&#97;l&#101;n' + '&#46;' + 'd&#101;';
				var addy_textdde376af7a6dcc5a713fb5c71213bd1b = 'v&#111;rs&#105;tz&#101;nd&#101;' + '&#64;' + '&#101;j&#97;-&#97;&#97;l&#101;n' + '&#46;' + 'd&#101;';document.getElementById('cloakdde376af7a6dcc5a713fb5c71213bd1b').innerHTML += '<a ' + path + '\'' + prefix + ':' + addydde376af7a6dcc5a713fb5c71213bd1b + '\'>'+addy_textdde376af7a6dcc5a713fb5c71213bd1b+'';
		
DTSTAMP:20260419T231828
DTSTART:20241104T183000
SEQUENCE:0
TRANSP:OPAQUE
END:VEVENT
END:VCALENDAR