BEGIN:VCALENDAR
VERSION:2.0
PRODID:-//jEvents 2.0 for Joomla//EN
CALSCALE:GREGORIAN
METHOD:PUBLISH
BEGIN:VEVENT
UID:8ac11f237003fbc07dac22b02533476c
CATEGORIES:Gremien
CREATED:20240630T135344
SUMMARY:BAK
LOCATION:Adelmannsfelden
URL;VALUE=URI:https://eja-aalen.de/medien/kalender/icalrepeat.detail/2025/01/16/1044/-/ba
 k?tmpl=component
DESCRIPTION: Dieser Event wurde importiert von: https://eja-aalen.de/medien/kalender/ic
 alrepeat.detail/2025/01/16/1044/-/bak?tmpl=component
X-ALT-DESC;FMTTYPE=text/html: <a href="https://eja-aalen.de/medien/kalender/icalrepeat.detail/2025/01/16
 /1044/-/bak?tmpl=component">Dieser Event wurde importiert von: https://eja-
 aalen.de/medien/kalender/icalrepeat.detail/2025/01/16/1044/-/bak?tmpl=compo
 nent</a>CONTACT:Diese E-Mail-Adresse ist vor Spambots geschützt! Zur Anzeige muss JavaScript eingeschaltet sein!
				document.getElementById('cloak295aed77e82f2065b0a6b275f39a57d0').innerHTML = '';
				var prefix = '&#109;a' + 'i&#108;' + '&#116;o';
				var path = 'hr' + 'ef' + '=';
				var addy295aed77e82f2065b0a6b275f39a57d0 = 'v&#111;rs&#105;tz&#101;nd&#101;' + '&#64;';
				addy295aed77e82f2065b0a6b275f39a57d0 = addy295aed77e82f2065b0a6b275f39a57d0 + '&#101;j&#97;-&#97;&#97;l&#101;n' + '&#46;' + 'd&#101;';
				var addy_text295aed77e82f2065b0a6b275f39a57d0 = 'v&#111;rs&#105;tz&#101;nd&#101;' + '&#64;' + '&#101;j&#97;-&#97;&#97;l&#101;n' + '&#46;' + 'd&#101;';document.getElementById('cloak295aed77e82f2065b0a6b275f39a57d0').innerHTML += '<a ' + path + '\'' + prefix + ':' + addy295aed77e82f2065b0a6b275f39a57d0 + '\'>'+addy_text295aed77e82f2065b0a6b275f39a57d0+'';
		
DTSTAMP:20260423T090534
DTSTART:20250116T183000
SEQUENCE:0
TRANSP:OPAQUE
END:VEVENT
END:VCALENDAR