BEGIN:VCALENDAR
VERSION:2.0
PRODID:-//jEvents 2.0 for Joomla//EN
CALSCALE:GREGORIAN
METHOD:PUBLISH
BEGIN:VEVENT
UID:342b40de286ed74563ebccee9abb4ab8
CATEGORIES:Veranstaltungen
CREATED:20240630T160703
SUMMARY:OrangenAktion
URL;VALUE=URI:https://eja-aalen.de/medien/kalender/icalrepeat.detail/2024/11/30/1048/-/or
 angenaktion?tmpl=component
DESCRIPTION: <a href="https://eja-aalen.de/medien/kalender/icalrepeat.detail/2024/11/30
 /1048/-/orangenaktion?tmpl=component">Dieser Event wurde importiert von: ht
 tps://eja-aalen.de/medien/kalender/icalrepeat.detail/2024/11/30/1048/-/oran
 genaktion?tmpl=component</a>CONTACT:Diese E-Mail-Adresse ist vor Spambots geschützt! Zur Anzeige muss JavaScript eingeschaltet sein!
				document.getElementById('cloak6f6ed50e508fa8f4ef0ca6004e76eda8').innerHTML = '';
				var prefix = '&#109;a' + 'i&#108;' + '&#116;o';
				var path = 'hr' + 'ef' + '=';
				var addy6f6ed50e508fa8f4ef0ca6004e76eda8 = 'g&#97;&#101;ssl&#101;r.h&#97;nn&#97;h' + '&#64;';
				addy6f6ed50e508fa8f4ef0ca6004e76eda8 = addy6f6ed50e508fa8f4ef0ca6004e76eda8 + '&#101;j&#97;-&#97;&#97;l&#101;n' + '&#46;' + 'd&#101;';
				var addy_text6f6ed50e508fa8f4ef0ca6004e76eda8 = 'g&#97;&#101;ssl&#101;r.h&#97;nn&#97;h' + '&#64;' + '&#101;j&#97;-&#97;&#97;l&#101;n' + '&#46;' + 'd&#101;';document.getElementById('cloak6f6ed50e508fa8f4ef0ca6004e76eda8').innerHTML += '<a ' + path + '\'' + prefix + ':' + addy6f6ed50e508fa8f4ef0ca6004e76eda8 + '\'>'+addy_text6f6ed50e508fa8f4ef0ca6004e76eda8+'';
		
DTSTAMP:20260425T223553
DTSTART;VALUE=DATE:20241130
DTEND;VALUE=DATE:20241202
SEQUENCE:0
TRANSP:OPAQUE
END:VEVENT
END:VCALENDAR