BEGIN:VCALENDAR
VERSION:2.0
PRODID:-//jEvents 2.0 for Joomla//EN
CALSCALE:GREGORIAN
METHOD:PUBLISH
BEGIN:VEVENT
UID:410511154a0e0315ebd959c73a3be1a5
CATEGORIES:Gremien
CREATED:20250515T173519
SUMMARY:BAK
URL;VALUE=URI:https://eja-aalen.de/medien/kalender/icalrepeat.detail/2025/11/10/1059/-/ba
 k?tmpl=component
DESCRIPTION:Aalen\n Dieser Event wurde importiert von: https://eja-aalen.de/medien/kale
 nder/icalrepeat.detail/2025/11/10/1059/-/bak?tmpl=component
X-ALT-DESC;FMTTYPE=text/html:<p>Aalen</p> <a href="https://eja-aalen.de/medien/kalender/icalrepeat.detai
 l/2025/11/10/1059/-/bak?tmpl=component">Dieser Event wurde importiert von: 
 https://eja-aalen.de/medien/kalender/icalrepeat.detail/2025/11/10/1059/-/ba
 k?tmpl=component</a>DTSTAMP:20260426T005330
DTSTART:20251110T183000
SEQUENCE:0
TRANSP:OPAQUE
END:VEVENT
END:VCALENDAR