BEGIN:VCALENDAR
VERSION:2.0
PRODID:-//jEvents 2.0 for Joomla//EN
CALSCALE:GREGORIAN
METHOD:PUBLISH
BEGIN:VEVENT
UID:2a5fa7c03557513291bf629cb2af858a
CATEGORIES:Gremien
CREATED:20250515T173921
SUMMARY:BAK - KlausurWe
URL;VALUE=URI:https://eja-aalen.de/medien/kalender/icalrepeat.detail/2026/03/20/1063/-/ba
 k-klausurwe?tmpl=component
DESCRIPTION: Dieser Event wurde importiert von: https://eja-aalen.de/medien/kalender/ic
 alrepeat.detail/2026/03/20/1063/-/bak-klausurwe?tmpl=component
X-ALT-DESC;FMTTYPE=text/html: <a href="https://eja-aalen.de/medien/kalender/icalrepeat.detail/2026/03/20
 /1063/-/bak-klausurwe?tmpl=component">Dieser Event wurde importiert von: ht
 tps://eja-aalen.de/medien/kalender/icalrepeat.detail/2026/03/20/1063/-/bak-
 klausurwe?tmpl=component</a>DTSTAMP:20260424T054605
DTSTART:20260320T080000
DTEND;VALUE=DATE:20260323
SEQUENCE:0
TRANSP:OPAQUE
END:VEVENT
END:VCALENDAR