BEGIN:VCALENDAR
VERSION:2.0
PRODID:-//jEvents 2.0 for Joomla//EN
CALSCALE:GREGORIAN
METHOD:PUBLISH
BEGIN:VEVENT
UID:59775060fdc0996256df53b9232e3706
CATEGORIES:Veranstaltungen
CREATED:20250515T174046
SUMMARY:#klimafasten Hochbeetbau
URL;VALUE=URI:https://eja-aalen.de/medien/kalender/icalrepeat.detail/2025/05/24/1064/-/kl
 imafasten-hochbeetbau?tmpl=component
DESCRIPTION: Dieser Event wurde importiert von: https://eja-aalen.de/medien/kalender/ic
 alrepeat.detail/2025/05/24/1064/-/klimafasten-hochbeetbau?tmpl=component
X-ALT-DESC;FMTTYPE=text/html: <a href="https://eja-aalen.de/medien/kalender/icalrepeat.detail/2025/05/24
 /1064/-/klimafasten-hochbeetbau?tmpl=component">Dieser Event wurde importie
 rt von: https://eja-aalen.de/medien/kalender/icalrepeat.detail/2025/05/24/1
 064/-/klimafasten-hochbeetbau?tmpl=component</a>DTSTAMP:20260423T134731
DTSTART:20250524T094500
DTEND:20250525T150000
SEQUENCE:0
TRANSP:OPAQUE
END:VEVENT
END:VCALENDAR