BEGIN:VCALENDAR
VERSION:2.0
PRODID:-//jEvents 2.0 for Joomla//EN
CALSCALE:GREGORIAN
METHOD:PUBLISH
BEGIN:VEVENT
UID:c41bcbb687d7ea3f09519a4cc847382c
CATEGORIES:Veranstaltungen
CREATED:20250515T174237
SUMMARY:#klimafasten Wasserratten on Tour
URL;VALUE=URI:https://eja-aalen.de/medien/kalender/icalrepeat.detail/2025/08/20/1066/-/kl
 imafasten-wasserratten-on-tour?tmpl=component
DESCRIPTION:Kanufahren auf der Brenz\n Dieser Event wurde importiert von: https://eja-a
 alen.de/medien/kalender/icalrepeat.detail/2025/08/20/1066/-/klimafasten-was
 serratten-on-tour?tmpl=component
X-ALT-DESC;FMTTYPE=text/html:<p>Kanufahren auf der Brenz</p> <a href="https://eja-aalen.de/medien/kalend
 er/icalrepeat.detail/2025/08/20/1066/-/klimafasten-wasserratten-on-tour?tmp
 l=component">Dieser Event wurde importiert von: https://eja-aalen.de/medien
 /kalender/icalrepeat.detail/2025/08/20/1066/-/klimafasten-wasserratten-on-t
 our?tmpl=component</a>DTSTAMP:20260425T034026
DTSTART:20250820T090000
DTEND:20250820T160000
SEQUENCE:0
TRANSP:OPAQUE
END:VEVENT
END:VCALENDAR