BEGIN:VCALENDAR
VERSION:2.0
PRODID:-//jEvents 2.0 for Joomla//EN
CALSCALE:GREGORIAN
METHOD:PUBLISH
BEGIN:VEVENT
UID:f356977a51d15aa500f27c10801859e3
CATEGORIES:Jugendgottesdienste
CREATED:20250515T174714
SUMMARY:re:CHARGE
URL;VALUE=URI:https://eja-aalen.de/medien/kalender/icalrepeat.detail/2025/11/02/1070/-/re
 -charge?tmpl=component
DESCRIPTION:ev. Gemeindehaus Essingen\n Dieser Event wurde importiert von: https://eja-
 aalen.de/medien/kalender/icalrepeat.detail/2025/11/02/1070/-/re-charge?tmpl
 =component
X-ALT-DESC;FMTTYPE=text/html:<p>ev. Gemeindehaus Essingen</p> <a href="https://eja-aalen.de/medien/kalen
 der/icalrepeat.detail/2025/11/02/1070/-/re-charge?tmpl=component">Dieser Ev
 ent wurde importiert von: https://eja-aalen.de/medien/kalender/icalrepeat.d
 etail/2025/11/02/1070/-/re-charge?tmpl=component</a>DTSTAMP:20260421T104425
DTSTART:20251102T170000
SEQUENCE:0
TRANSP:OPAQUE
END:VEVENT
END:VCALENDAR