BEGIN:VCALENDAR
VERSION:2.0
PRODID:-//jEvents 2.0 for Joomla//EN
CALSCALE:GREGORIAN
METHOD:PUBLISH
BEGIN:VEVENT
UID:835cebf5ef4e46605aced58d22bdde72
CATEGORIES:Freizeiten
CREATED:20250515T175419
SUMMARY:FTH 1. Abschnitt
URL;VALUE=URI:https://eja-aalen.de/medien/kalender/icalrepeat.detail/2025/08/04/1078/-/ft
 h-1-abschnitt?tmpl=component
DESCRIPTION:Leinroden\n Dieser Event wurde importiert von: https://eja-aalen.de/medien/
 kalender/icalrepeat.detail/2025/08/04/1078/-/fth-1-abschnitt?tmpl=component
X-ALT-DESC;FMTTYPE=text/html:<p>Leinroden</p> <a href="https://eja-aalen.de/medien/kalender/icalrepeat.d
 etail/2025/08/04/1078/-/fth-1-abschnitt?tmpl=component">Dieser Event wurde 
 importiert von: https://eja-aalen.de/medien/kalender/icalrepeat.detail/2025
 /08/04/1078/-/fth-1-abschnitt?tmpl=component</a>DTSTAMP:20260423T090526
DTSTART;VALUE=DATE:20250804
DTEND;VALUE=DATE:20250816
SEQUENCE:0
TRANSP:OPAQUE
END:VEVENT
END:VCALENDAR