BEGIN:VCALENDAR
VERSION:2.0
PRODID:-//jEvents 2.0 for Joomla//EN
CALSCALE:GREGORIAN
METHOD:PUBLISH
BEGIN:VEVENT
UID:cf997a632bc9c4f9622ee88ab57823a0
CATEGORIES:Schulungen
CREATED:20250515T175723
SUMMARY:Grundkurs
URL;VALUE=URI:https://eja-aalen.de/medien/kalender/icalrepeat.detail/2025/10/24/1082/-/gr
 undkurs?tmpl=component
DESCRIPTION:<p>Kirchheim Teck</p> <a href="https://eja-aalen.de/medien/kalender/icalrep
 eat.detail/2025/10/24/1082/-/grundkurs?tmpl=component">Dieser Event wurde i
 mportiert von: https://eja-aalen.de/medien/kalender/icalrepeat.detail/2025/
 10/24/1082/-/grundkurs?tmpl=component</a>DTSTAMP:20260424T205629
DTSTART;VALUE=DATE:20251024
DTEND;VALUE=DATE:20251030
SEQUENCE:0
TRANSP:OPAQUE
END:VEVENT
END:VCALENDAR