BEGIN:VCALENDAR
VERSION:2.0
PRODID:-//jEvents 2.0 for Joomla//EN
CALSCALE:GREGORIAN
METHOD:PUBLISH
BEGIN:VEVENT
UID:ece7b6599e19631711ddb27416e4d47d
CATEGORIES:Freizeiten
CREATED:20251204T161455
SUMMARY:Vorbereitungswochenende Zeltlager
LOCATION:Stockensägmühle Ellwangen
URL;VALUE=URI:https://eja-aalen.de/medien/kalender/icalrepeat.detail/2026/05/08/1088/-/vo
 rbereitungswochenende-zeltlager?tmpl=component
DESCRIPTION: Dieser Event wurde importiert von: https://eja-aalen.de/medien/kalender/ic
 alrepeat.detail/2026/05/08/1088/-/vorbereitungswochenende-zeltlager?tmpl=co
 mponent
X-ALT-DESC;FMTTYPE=text/html: <a href="https://eja-aalen.de/medien/kalender/icalrepeat.detail/2026/05/08
 /1088/-/vorbereitungswochenende-zeltlager?tmpl=component">Dieser Event wurd
 e importiert von: https://eja-aalen.de/medien/kalender/icalrepeat.detail/20
 26/05/08/1088/-/vorbereitungswochenende-zeltlager?tmpl=component</a>CONTACT:Lorena Mack
DTSTAMP:20260423T181816
DTSTART;VALUE=DATE:20260508
DTEND;VALUE=DATE:20260511
SEQUENCE:0
TRANSP:OPAQUE
END:VEVENT
END:VCALENDAR