BEGIN:VCALENDAR
VERSION:2.0
PRODID:-//jEvents 2.0 for Joomla//EN
CALSCALE:GREGORIAN
METHOD:PUBLISH
BEGIN:VEVENT
UID:70f951031c639e807a39394f6db09c18
CATEGORIES:Freizeiten
CREATED:20251204T161640
SUMMARY:Vorbereitungswochenende LKB
LOCATION:Trochtelfingen
URL;VALUE=URI:https://eja-aalen.de/medien/kalender/icalrepeat.detail/2026/04/24/1089/-/vo
 rbereitungswochenende-lkb?tmpl=component
DESCRIPTION: Dieser Event wurde importiert von: https://eja-aalen.de/medien/kalender/ic
 alrepeat.detail/2026/04/24/1089/-/vorbereitungswochenende-lkb?tmpl=componen
 t
X-ALT-DESC;FMTTYPE=text/html: <a href="https://eja-aalen.de/medien/kalender/icalrepeat.detail/2026/04/24
 /1089/-/vorbereitungswochenende-lkb?tmpl=component">Dieser Event wurde impo
 rtiert von: https://eja-aalen.de/medien/kalender/icalrepeat.detail/2026/04/
 24/1089/-/vorbereitungswochenende-lkb?tmpl=component</a>CONTACT:Verena Gemperlein
DTSTAMP:20260426T005310
DTSTART;VALUE=DATE:20260424
DTEND;VALUE=DATE:20260427
SEQUENCE:0
TRANSP:OPAQUE
END:VEVENT
END:VCALENDAR