BEGIN:VCALENDAR
VERSION:2.0
PRODID:-//jEvents 2.0 for Joomla//EN
CALSCALE:GREGORIAN
METHOD:PUBLISH
BEGIN:VEVENT
UID:27b2e7ea142dfc15a2367d83be134012
CATEGORIES:Freizeiten
CREATED:20251204T161759
SUMMARY:Vorbereitungswochenende Jugendfreizeit
URL;VALUE=URI:https://eja-aalen.de/medien/kalender/icalrepeat.detail/2026/04/10/1090/-/vo
 rbereitungswochenende-jugendfreizeit?tmpl=component
DESCRIPTION: Dieser Event wurde importiert von: https://eja-aalen.de/medien/kalender/ic
 alrepeat.detail/2026/04/10/1090/-/vorbereitungswochenende-jugendfreizeit?tm
 pl=component
X-ALT-DESC;FMTTYPE=text/html: <a href="https://eja-aalen.de/medien/kalender/icalrepeat.detail/2026/04/10
 /1090/-/vorbereitungswochenende-jugendfreizeit?tmpl=component">Dieser Event
  wurde importiert von: https://eja-aalen.de/medien/kalender/icalrepeat.deta
 il/2026/04/10/1090/-/vorbereitungswochenende-jugendfreizeit?tmpl=component<
 /a>DTSTAMP:20260424T105505
DTSTART;VALUE=DATE:20260410
DTEND;VALUE=DATE:20260413
SEQUENCE:0
TRANSP:OPAQUE
END:VEVENT
END:VCALENDAR