BEGIN:VCALENDAR
VERSION:2.0
PRODID:-//jEvents 2.0 for Joomla//EN
CALSCALE:GREGORIAN
METHOD:PUBLISH
BEGIN:VEVENT
UID:e3a26749b44fc8376283d30c49c1a820
CATEGORIES:Freizeiten
CREATED:20251204T161905
SUMMARY:Jugendfreizeit Österreich
LOCATION:Österreich\, Radstadt
URL;VALUE=URI:https://eja-aalen.de/medien/kalender/icalrepeat.detail/2026/05/25/1091/-/ju
 gendfreizeit-oesterreich?tmpl=component
DESCRIPTION: Dieser Event wurde importiert von: https://eja-aalen.de/medien/kalender/ic
 alrepeat.detail/2026/05/25/1091/-/jugendfreizeit-oesterreich?tmpl=component
X-ALT-DESC;FMTTYPE=text/html: <a href="https://eja-aalen.de/medien/kalender/icalrepeat.detail/2026/05/25
 /1091/-/jugendfreizeit-oesterreich?tmpl=component">Dieser Event wurde impor
 tiert von: https://eja-aalen.de/medien/kalender/icalrepeat.detail/2026/05/2
 5/1091/-/jugendfreizeit-oesterreich?tmpl=component</a>DTSTAMP:20260424T101550
DTSTART;VALUE=DATE:20260525
DTEND;VALUE=DATE:20260604
SEQUENCE:0
TRANSP:OPAQUE
END:VEVENT
END:VCALENDAR