BEGIN:VCALENDAR
VERSION:2.0
PRODID:-//jEvents 2.0 for Joomla//EN
CALSCALE:GREGORIAN
METHOD:PUBLISH
BEGIN:VEVENT
UID:967e53c20961963ac074f1d100be1b2c
CATEGORIES:Freizeiten
CREATED:20251204T162124
SUMMARY:BZL
LOCATION:Stockensägmühle Ellwangen
URL;VALUE=URI:https://eja-aalen.de/medien/kalender/icalrepeat.detail/2026/07/31/1094/-/bz
 l?tmpl=component
DESCRIPTION: Dieser Event wurde importiert von: https://eja-aalen.de/medien/kalender/ic
 alrepeat.detail/2026/07/31/1094/-/bzl?tmpl=component
X-ALT-DESC;FMTTYPE=text/html: <a href="https://eja-aalen.de/medien/kalender/icalrepeat.detail/2026/07/31
 /1094/-/bzl?tmpl=component">Dieser Event wurde importiert von: https://eja-
 aalen.de/medien/kalender/icalrepeat.detail/2026/07/31/1094/-/bzl?tmpl=compo
 nent</a>CONTACT:Lorena Mack
DTSTAMP:20260424T042159
DTSTART;VALUE=DATE:20260731
DTEND;VALUE=DATE:20260810
SEQUENCE:0
TRANSP:OPAQUE
END:VEVENT
END:VCALENDAR