BEGIN:VCALENDAR
VERSION:2.0
PRODID:-//jEvents 2.0 for Joomla//EN
CALSCALE:GREGORIAN
METHOD:PUBLISH
BEGIN:VEVENT
UID:91d0aedf4443aef3ee8b59f809b91257
CATEGORIES:Freizeiten
CREATED:20251204T162202
SUMMARY:MZL
LOCATION:Stockensägmühle Ellwangen
URL;VALUE=URI:https://eja-aalen.de/medien/kalender/icalrepeat.detail/2026/08/10/1095/-/mz
 l?tmpl=component
DESCRIPTION: Dieser Event wurde importiert von: https://eja-aalen.de/medien/kalender/ic
 alrepeat.detail/2026/08/10/1095/-/mzl?tmpl=component
X-ALT-DESC;FMTTYPE=text/html: <a href="https://eja-aalen.de/medien/kalender/icalrepeat.detail/2026/08/10
 /1095/-/mzl?tmpl=component">Dieser Event wurde importiert von: https://eja-
 aalen.de/medien/kalender/icalrepeat.detail/2026/08/10/1095/-/mzl?tmpl=compo
 nent</a>CONTACT:Lorena Mack
DTSTAMP:20260425T034210
DTSTART;VALUE=DATE:20260810
DTEND;VALUE=DATE:20260820
SEQUENCE:0
TRANSP:OPAQUE
END:VEVENT
END:VCALENDAR