BEGIN:VCALENDAR
VERSION:2.0
PRODID:-//jEvents 2.0 for Joomla//EN
CALSCALE:GREGORIAN
METHOD:PUBLISH
BEGIN:VEVENT
UID:b09dcac435b9e16625b8c8db533bdd99
CATEGORIES:Freizeiten
CREATED:20251204T162424
SUMMARY:FTH 2. Abschnitt
LOCATION:Leinroden
URL;VALUE=URI:https://eja-aalen.de/medien/kalender/icalrepeat.detail/2026/08/17/1098/-/ft
 h-2-abschnitt?tmpl=component
DESCRIPTION: Dieser Event wurde importiert von: https://eja-aalen.de/medien/kalender/ic
 alrepeat.detail/2026/08/17/1098/-/fth-2-abschnitt?tmpl=component
X-ALT-DESC;FMTTYPE=text/html: <a href="https://eja-aalen.de/medien/kalender/icalrepeat.detail/2026/08/17
 /1098/-/fth-2-abschnitt?tmpl=component">Dieser Event wurde importiert von: 
 https://eja-aalen.de/medien/kalender/icalrepeat.detail/2026/08/17/1098/-/ft
 h-2-abschnitt?tmpl=component</a>DTSTAMP:20260424T042155
DTSTART;VALUE=DATE:20260817
DTEND;VALUE=DATE:20260829
SEQUENCE:0
TRANSP:OPAQUE
END:VEVENT
END:VCALENDAR