BEGIN:VCALENDAR
VERSION:2.0
PRODID:-//jEvents 2.0 for Joomla//EN
CALSCALE:GREGORIAN
METHOD:PUBLISH
BEGIN:VEVENT
UID:4887da2c91ddf7d2599623b7a72a47bd
CATEGORIES:Freizeiten
CREATED:20251204T162534
SUMMARY:LKB
LOCATION:Trochtelfingen
URL;VALUE=URI:https://eja-aalen.de/medien/kalender/icalrepeat.detail/2026/08/24/1099/-/lk
 b?tmpl=component
DESCRIPTION: Dieser Event wurde importiert von: https://eja-aalen.de/medien/kalender/ic
 alrepeat.detail/2026/08/24/1099/-/lkb?tmpl=component
X-ALT-DESC;FMTTYPE=text/html: <a href="https://eja-aalen.de/medien/kalender/icalrepeat.detail/2026/08/24
 /1099/-/lkb?tmpl=component">Dieser Event wurde importiert von: https://eja-
 aalen.de/medien/kalender/icalrepeat.detail/2026/08/24/1099/-/lkb?tmpl=compo
 nent</a>CONTACT:Verena Gemperlein
DTSTAMP:20260425T190817
DTSTART;VALUE=DATE:20260824
DTEND;VALUE=DATE:20260905
SEQUENCE:0
TRANSP:OPAQUE
END:VEVENT
END:VCALENDAR