BEGIN:VCALENDAR
VERSION:2.0
PRODID:-//jEvents 2.0 for Joomla//EN
CALSCALE:GREGORIAN
METHOD:PUBLISH
BEGIN:VEVENT
UID:18dade20188bcb19e357b76a4c1fe3fe
CATEGORIES:Schulungen
CREATED:20251204T162649
SUMMARY:Grundkurs
URL;VALUE=URI:https://eja-aalen.de/medien/kalender/icalrepeat.detail/2026/10/23/1101/-/gr
 undkurs?tmpl=component
DESCRIPTION: <a href="https://eja-aalen.de/medien/kalender/icalrepeat.detail/2026/10/23
 /1101/-/grundkurs?tmpl=component">Dieser Event wurde importiert von: https:
 //eja-aalen.de/medien/kalender/icalrepeat.detail/2026/10/23/1101/-/grundkur
 s?tmpl=component</a>CONTACT:Verena Gemperlein
DTSTAMP:20260424T154513
DTSTART;VALUE=DATE:20261023
DTEND;VALUE=DATE:20261029
SEQUENCE:0
TRANSP:OPAQUE
END:VEVENT
END:VCALENDAR