BEGIN:VCALENDAR
VERSION:2.0
PRODID:-//jEvents 2.0 for Joomla//EN
CALSCALE:GREGORIAN
METHOD:PUBLISH
BEGIN:VEVENT
UID:e3896bc38af56a2ccc4ccedc9c98eaaf
CATEGORIES:Freizeiten
CREATED:20251204T162932
SUMMARY:Winterwochenende
LOCATION:Österreich\, Pitztal
URL;VALUE=URI:https://eja-aalen.de/medien/kalender/icalrepeat.detail/2027/01/02/1103/-/wi
 nterwochenende?tmpl=component
DESCRIPTION: Dieser Event wurde importiert von: https://eja-aalen.de/medien/kalender/ic
 alrepeat.detail/2027/01/02/1103/-/winterwochenende?tmpl=component
X-ALT-DESC;FMTTYPE=text/html: <a href="https://eja-aalen.de/medien/kalender/icalrepeat.detail/2027/01/02
 /1103/-/winterwochenende?tmpl=component">Dieser Event wurde importiert von:
  https://eja-aalen.de/medien/kalender/icalrepeat.detail/2027/01/02/1103/-/w
 interwochenende?tmpl=component</a>CONTACT:Diese E-Mail-Adresse ist vor Spambots geschützt! Zur Anzeige muss JavaScript eingeschaltet sein!
				document.getElementById('cloak5f929386d4a981bad84f4ef551f534ac').innerHTML = '';
				var prefix = '&#109;a' + 'i&#108;' + '&#116;o';
				var path = 'hr' + 'ef' + '=';
				var addy5f929386d4a981bad84f4ef551f534ac = 'w&#105;nt&#101;rw&#101;' + '&#64;';
				addy5f929386d4a981bad84f4ef551f534ac = addy5f929386d4a981bad84f4ef551f534ac + '&#101;j&#97;-&#97;&#97;l&#101;n' + '&#46;' + 'd&#101;';
				var addy_text5f929386d4a981bad84f4ef551f534ac = 'w&#105;nt&#101;rw&#101;' + '&#64;' + '&#101;j&#97;-&#97;&#97;l&#101;n' + '&#46;' + 'd&#101;';document.getElementById('cloak5f929386d4a981bad84f4ef551f534ac').innerHTML += '<a ' + path + '\'' + prefix + ':' + addy5f929386d4a981bad84f4ef551f534ac + '\'>'+addy_text5f929386d4a981bad84f4ef551f534ac+'';
		
DTSTAMP:20260424T042214
DTSTART;VALUE=DATE:20270102
DTEND;VALUE=DATE:20270106
SEQUENCE:0
TRANSP:OPAQUE
END:VEVENT
END:VCALENDAR