BEGIN:VCALENDAR
VERSION:2.0
PRODID:-//jEvents 2.0 for Joomla//EN
CALSCALE:GREGORIAN
METHOD:PUBLISH
BEGIN:VEVENT
UID:5df6f0d5b8af315ac3ccb44cdc0ce941
CATEGORIES:Jugendgottesdienste
CREATED:20251204T163115
SUMMARY:re:CHARGE Visionswochenende
URL;VALUE=URI:https://eja-aalen.de/medien/kalender/icalrepeat.detail/2026/01/16/1105/-/re
 -charge-visionswochenende?tmpl=component
DESCRIPTION: <a href="https://eja-aalen.de/medien/kalender/icalrepeat.detail/2026/01/16
 /1105/-/re-charge-visionswochenende?tmpl=component">Dieser Event wurde impo
 rtiert von: https://eja-aalen.de/medien/kalender/icalrepeat.detail/2026/01/
 16/1105/-/re-charge-visionswochenende?tmpl=component</a>CONTACT:Kim-André Reusch; Lorena Mack
DTSTAMP:20260423T015020
DTSTART;VALUE=DATE:20260116
DTEND;VALUE=DATE:20260119
SEQUENCE:0
TRANSP:OPAQUE
END:VEVENT
END:VCALENDAR