BEGIN:VCALENDAR
VERSION:2.0
PRODID:-//jEvents 2.0 for Joomla//EN
CALSCALE:GREGORIAN
METHOD:PUBLISH
BEGIN:VEVENT
UID:efef7fb1efc7ba84110d33f8ddcbe05a
CATEGORIES:Freizeiten
CREATED:20251204T164511
SUMMARY:Kidscamp Stocken
LOCATION:Stockensägmühle Ellwangen
URL;VALUE=URI:https://eja-aalen.de/medien/kalender/icalrepeat.detail/2026/08/21/1107/-/ki
 dscamp-stocken?tmpl=component
DESCRIPTION: Dieser Event wurde importiert von: https://eja-aalen.de/medien/kalender/ic
 alrepeat.detail/2026/08/21/1107/-/kidscamp-stocken?tmpl=component
X-ALT-DESC;FMTTYPE=text/html: <a href="https://eja-aalen.de/medien/kalender/icalrepeat.detail/2026/08/21
 /1107/-/kidscamp-stocken?tmpl=component">Dieser Event wurde importiert von:
  https://eja-aalen.de/medien/kalender/icalrepeat.detail/2026/08/21/1107/-/k
 idscamp-stocken?tmpl=component</a>DTSTAMP:20260423T175437
DTSTART;VALUE=DATE:20260821
DTEND;VALUE=DATE:20260831
SEQUENCE:0
TRANSP:OPAQUE
END:VEVENT
END:VCALENDAR