BEGIN:VCALENDAR
VERSION:2.0
PRODID:-//jEvents 2.0 for Joomla//EN
CALSCALE:GREGORIAN
METHOD:PUBLISH
BEGIN:VEVENT
UID:0b77880b81607380c0e66d95f7705471
CATEGORIES:Jugendgottesdienste
CREATED:20260224T135718
SUMMARY:re:CHARGE
URL;VALUE=URI:https://eja-aalen.de/medien/kalender/icalrepeat.detail/2026/12/13/1125/-/re
 -charge?tmpl=component
DESCRIPTION: <a href="https://eja-aalen.de/medien/kalender/icalrepeat.detail/2026/12/13
 /1125/-/re-charge?tmpl=component">Dieser Event wurde importiert von: https:
 //eja-aalen.de/medien/kalender/icalrepeat.detail/2026/12/13/1125/-/re-charg
 e?tmpl=component</a>DTSTAMP:20260424T160555
DTSTART:20261213T170000
SEQUENCE:0
TRANSP:OPAQUE
END:VEVENT
END:VCALENDAR