BEGIN:VCALENDAR
VERSION:2.0
PRODID:-//jEvents 2.0 for Joomla//EN
CALSCALE:GREGORIAN
METHOD:PUBLISH
BEGIN:VEVENT
UID:7bbe7a9cddae890139c4db99bab633a2
CATEGORIES:Abwesenheit Elke
CREATED:20160517T173614
SUMMARY:Elke nicht im EJA
URL;VALUE=URI:https://eja-aalen.de/medien/kalender/icalrepeat.detail/2016/05/19/140/-/elk
 e-nicht-im-eja?tmpl=component
DESCRIPTION: Dieser Event wurde importiert von: https://eja-aalen.de/medien/kalender/ic
 alrepeat.detail/2016/05/19/140/-/elke-nicht-im-eja?tmpl=component
X-ALT-DESC;FMTTYPE=text/html: <a href="https://eja-aalen.de/medien/kalender/icalrepeat.detail/2016/05/19
 /140/-/elke-nicht-im-eja?tmpl=component">Dieser Event wurde importiert von:
  https://eja-aalen.de/medien/kalender/icalrepeat.detail/2016/05/19/140/-/el
 ke-nicht-im-eja?tmpl=component</a>DTSTAMP:20260424T155429
DTSTART;VALUE=DATE:20160519
DTEND;VALUE=DATE:20160531
SEQUENCE:0
TRANSP:OPAQUE
END:VEVENT
END:VCALENDAR