BEGIN:VCALENDAR
VERSION:2.0
PRODID:-//jEvents 2.0 for Joomla//EN
CALSCALE:GREGORIAN
METHOD:PUBLISH
BEGIN:VEVENT
UID:c0f5301b32e904896c151de6119b5b9f
CATEGORIES:Freizeiten
CREATED:20160812T174027
SUMMARY:Mädchenzeltlager
URL;VALUE=URI:https://eja-aalen.de/medien/kalender/icalrepeat.detail/2016/08/08/143/-/mae
 dchenzeltlager?tmpl=component
DESCRIPTION: <a href="https://eja-aalen.de/medien/kalender/icalrepeat.detail/2016/08/08
 /143/-/maedchenzeltlager?tmpl=component">Dieser Event wurde importiert von:
  https://eja-aalen.de/medien/kalender/icalrepeat.detail/2016/08/08/143/-/ma
 edchenzeltlager?tmpl=component</a>DTSTAMP:20260425T162828
DTSTART;VALUE=DATE:20160808
DTEND;VALUE=DATE:20160818
SEQUENCE:0
TRANSP:OPAQUE
END:VEVENT
END:VCALENDAR