BEGIN:VCALENDAR
VERSION:2.0
PRODID:-//jEvents 2.0 for Joomla//EN
CALSCALE:GREGORIAN
METHOD:PUBLISH
BEGIN:VEVENT
UID:daf89e1c69757225b5ca95bcb5588b1a
CATEGORIES:Freizeiten
CREATED:20160812T174120
SUMMARY:Landkinderbetreuung
LOCATION:Trochtelfingen
URL;VALUE=URI:https://eja-aalen.de/medien/kalender/icalrepeat.detail/2016/08/22/144/-/lan
 dkinderbetreuung?tmpl=component
DESCRIPTION: Dieser Event wurde importiert von: https://eja-aalen.de/medien/kalender/ic
 alrepeat.detail/2016/08/22/144/-/landkinderbetreuung?tmpl=component
X-ALT-DESC;FMTTYPE=text/html: <a href="https://eja-aalen.de/medien/kalender/icalrepeat.detail/2016/08/22
 /144/-/landkinderbetreuung?tmpl=component">Dieser Event wurde importiert vo
 n: https://eja-aalen.de/medien/kalender/icalrepeat.detail/2016/08/22/144/-/
 landkinderbetreuung?tmpl=component</a>DTSTAMP:20260423T191608
DTSTART;VALUE=DATE:20160822
DTEND;VALUE=DATE:20160903
SEQUENCE:0
TRANSP:OPAQUE
END:VEVENT
END:VCALENDAR