BEGIN:VCALENDAR
VERSION:2.0
PRODID:-//jEvents 2.0 for Joomla//EN
CALSCALE:GREGORIAN
METHOD:PUBLISH
BEGIN:VEVENT
UID:fb2180cb8781d8b0ea0f038878ec44cb
CATEGORIES:Jugendgottesdienste
CREATED:20160812T175216
SUMMARY:ZAGG Jugendgottesdienst
LOCATION:Markuskirche Aalen\, Erwin-Rommel. Str.
URL;VALUE=URI:https://eja-aalen.de/medien/kalender/icalrepeat.detail/2016/10/31/147/-/zag
 g-jugendgottesdienst?tmpl=component
DESCRIPTION: Dieser Event wurde importiert von: https://eja-aalen.de/medien/kalender/ic
 alrepeat.detail/2016/10/31/147/-/zagg-jugendgottesdienst?tmpl=component
X-ALT-DESC;FMTTYPE=text/html: <a href="https://eja-aalen.de/medien/kalender/icalrepeat.detail/2016/10/31
 /147/-/zagg-jugendgottesdienst?tmpl=component">Dieser Event wurde importier
 t von: https://eja-aalen.de/medien/kalender/icalrepeat.detail/2016/10/31/14
 7/-/zagg-jugendgottesdienst?tmpl=component</a>DTSTAMP:20260424T210623
DTSTART:20161031T180000
SEQUENCE:0
TRANSP:OPAQUE
END:VEVENT
END:VCALENDAR