BEGIN:VCALENDAR
VERSION:2.0
PRODID:-//jEvents 2.0 for Joomla//EN
CALSCALE:GREGORIAN
METHOD:PUBLISH
BEGIN:VEVENT
UID:c642cd1a94bc85bfde566721c4494995
CATEGORIES:Schulungen
CREATED:20160812T180907
SUMMARY:Grundkurs
LOCATION:Fornsbach
URL;VALUE=URI:https://eja-aalen.de/medien/kalender/icalrepeat.detail/2016/11/01/154/-/gru
 ndkurs?tmpl=component
DESCRIPTION: Dieser Event wurde importiert von: https://eja-aalen.de/medien/kalender/ic
 alrepeat.detail/2016/11/01/154/-/grundkurs?tmpl=component
X-ALT-DESC;FMTTYPE=text/html: <a href="https://eja-aalen.de/medien/kalender/icalrepeat.detail/2016/11/01
 /154/-/grundkurs?tmpl=component">Dieser Event wurde importiert von: https:/
 /eja-aalen.de/medien/kalender/icalrepeat.detail/2016/11/01/154/-/grundkurs?
 tmpl=component</a>DTSTAMP:20260426T040711
DTSTART;VALUE=DATE:20161101
DTEND;VALUE=DATE:20161106
SEQUENCE:0
TRANSP:OPAQUE
END:VEVENT
END:VCALENDAR